BEGIN:VCALENDAR
VERSION:2.0
PRODID:-//101.5 K-Rock Manhattan&#039;s Real Rock - ECPv6.15.20//NONSGML v1.0//EN
CALSCALE:GREGORIAN
METHOD:PUBLISH
X-WR-CALNAME:101.5 K-Rock Manhattan&#039;s Real Rock
X-ORIGINAL-URL:https://1015krock.com
X-WR-CALDESC:Events for 101.5 K-Rock Manhattan&#039;s Real Rock
REFRESH-INTERVAL;VALUE=DURATION:PT1H
X-Robots-Tag:noindex
X-PUBLISHED-TTL:PT1H
BEGIN:VTIMEZONE
TZID:America/Chicago
BEGIN:DAYLIGHT
TZOFFSETFROM:-0600
TZOFFSETTO:-0500
TZNAME:CDT
DTSTART:20250309T080000
END:DAYLIGHT
BEGIN:STANDARD
TZOFFSETFROM:-0500
TZOFFSETTO:-0600
TZNAME:CST
DTSTART:20251102T070000
END:STANDARD
BEGIN:DAYLIGHT
TZOFFSETFROM:-0600
TZOFFSETTO:-0500
TZNAME:CDT
DTSTART:20260308T080000
END:DAYLIGHT
BEGIN:STANDARD
TZOFFSETFROM:-0500
TZOFFSETTO:-0600
TZNAME:CST
DTSTART:20261101T070000
END:STANDARD
BEGIN:DAYLIGHT
TZOFFSETFROM:-0600
TZOFFSETTO:-0500
TZNAME:CDT
DTSTART:20270314T080000
END:DAYLIGHT
BEGIN:STANDARD
TZOFFSETFROM:-0500
TZOFFSETTO:-0600
TZNAME:CST
DTSTART:20271107T070000
END:STANDARD
END:VTIMEZONE
BEGIN:VEVENT
DTSTART;TZID=America/Chicago:20260619T180000
DTEND;TZID=America/Chicago:20260619T230000
DTSTAMP:20260425T152511
CREATED:20260421T173631Z
LAST-MODIFIED:20260421T173631Z
UID:271839-1781892000-1781910000@1015krock.com
SUMMARY:Kansas w/ 38 Special
DESCRIPTION:
URL:https://1015krock.com/concerts/kansas-w-38-special-2/
LOCATION:Heartland Credit Union Arena\, 8151 N Arena Dr\, Park City\, KS\, 67147\, United States
ATTACH;FMTTYPE=image/jpeg:https://1015krock.com/wp-content/uploads/2026/04/Kansas_38Special_HeartlandCreditUnionArena_1920x1080_V2.jpg
END:VEVENT
BEGIN:VEVENT
DTSTART;TZID=America/Chicago:20260709T200000
DTEND;TZID=America/Chicago:20260709T230000
DTSTAMP:20260425T152511
CREATED:20260421T173210Z
LAST-MODIFIED:20260421T173210Z
UID:271832-1783627200-1783638000@1015krock.com
SUMMARY:Tom Keifer
DESCRIPTION:
URL:https://1015krock.com/concerts/tom-keifer/
LOCATION:The Cotillion\, 11120 West Kellogg St\, Wichita\, KS\, 67209\, United States
ATTACH;FMTTYPE=image/jpeg:https://1015krock.com/wp-content/uploads/2026/04/etix-Tom_415741767792591.jpg
END:VEVENT
BEGIN:VEVENT
DTSTART;TZID=America/Chicago:20260712T190000
DTEND;TZID=America/Chicago:20260712T230000
DTSTAMP:20260425T152511
CREATED:20260408T184558Z
LAST-MODIFIED:20260408T184558Z
UID:270935-1783882800-1783897200@1015krock.com
SUMMARY:Evanescence w/ Spiritbox and Nova Twins
DESCRIPTION:
URL:https://1015krock.com/concerts/evanescence-w-spiritbox-and-nova-twins/
LOCATION:Morton Amphitheater\, 6150 NW Music Blvd\, Riverside\, MO\, 64150\, United States
ATTACH;FMTTYPE=image/jpeg:https://1015krock.com/wp-content/uploads/2026/04/47597ee7-9a3b-4fca-aec8-0edc61978b1c_TABLET_LANDSCAPE_LARGE_16_9.jpg
END:VEVENT
BEGIN:VEVENT
DTSTART;TZID=America/Chicago:20260721T200000
DTEND;TZID=America/Chicago:20260721T230000
DTSTAMP:20260425T152511
CREATED:20260408T183657Z
LAST-MODIFIED:20260408T183657Z
UID:270929-1784664000-1784674800@1015krock.com
SUMMARY:The Pretty Reckless
DESCRIPTION:The Pretty Reckless is a record-breaking rock band fronted by the incomparable Taylor Momsen\, whose commanding vocals move seamlessly between raw power and haunting vulnerability. Known for their electrifying live performances\, the band has toured the world with legends including AC/DC\, The Rolling Stones\, and Soundgarden. Since their debut Light Me Up\, they’ve earned global acclaim with hits including “Heaven Knows” and made history as the first female-fronted band to score eight No. 1 singles on Billboard’s Mainstream Rock chart. Their latest album\, Death by Rock and Roll\, is a visceral exploration of life\, loss\, and the enduring spirit of rock. They began to usher in their next chapter in 2025 with their single “For I Am Death.”
URL:https://1015krock.com/concerts/the-pretty-reckless/
LOCATION:The Midland Theatre\, 1228 Main Street\, Kansas City\, MO\, 64105\, United States
ATTACH;FMTTYPE=image/jpeg:https://1015krock.com/wp-content/uploads/2026/04/the-pretty-reckless_03-09-26_19_69af0b001b735.jpg
END:VEVENT
BEGIN:VEVENT
DTSTART;TZID=America/Chicago:20260725T180000
DTEND;TZID=America/Chicago:20260725T230000
DTSTAMP:20260425T152511
CREATED:20251208T180233Z
LAST-MODIFIED:20251208T180233Z
UID:260603-1785002400-1785020400@1015krock.com
SUMMARY:Avenged Sevenfold w/ Good Charlotte
DESCRIPTION:
URL:https://1015krock.com/concerts/avenged-sevenfold-w-good-charlotte/
LOCATION:Thunder Ridge Nature Arena\, 1901 State Hwy 86\, Ridgedale\, MO\, 65739\, United States
ATTACH;FMTTYPE=image/jpeg:https://1015krock.com/wp-content/uploads/2025/12/Static_Social-Admat-Venue-Social-TIkTok_1920x1080_A7X_GC_2026_Regional_ThunderRidgeNatureArena_0725.jpg
END:VEVENT
BEGIN:VEVENT
DTSTART;TZID=America/Chicago:20260814T183000
DTEND;TZID=America/Chicago:20260814T230000
DTSTAMP:20260425T152511
CREATED:20251119T165809Z
LAST-MODIFIED:20251119T165809Z
UID:259004-1786732200-1786748400@1015krock.com
SUMMARY:Lynyrd Skynyrd x Foreigner
DESCRIPTION:
URL:https://1015krock.com/concerts/lynyrd-skynyrd-x-foreigner/
LOCATION:Morton Amphitheater\, 6150 NW Music Blvd\, Riverside\, MO\, 64150\, United States
ATTACH;FMTTYPE=image/jpeg:https://1015krock.com/wp-content/uploads/2025/11/IMG_4611.jpeg
END:VEVENT
BEGIN:VEVENT
DTSTART;TZID=America/Chicago:20260819T182500
DTEND;TZID=America/Chicago:20260819T230000
DTSTAMP:20260425T152511
CREATED:20251208T180339Z
LAST-MODIFIED:20251208T180343Z
UID:259341-1787163900-1787180400@1015krock.com
SUMMARY:Guns N' Roses
DESCRIPTION:
URL:https://1015krock.com/concerts/guns-n-roses/
LOCATION:Morton Amphitheater\, 6150 NW Music Blvd\, Riverside\, MO\, 64150\, United States
ATTACH;FMTTYPE=image/jpeg:https://1015krock.com/wp-content/uploads/2025/11/Static_Outdoor-ConcertVision_1920x1080_GunsNRoses_2026_Regional_MortonAmphitheater_0819.jpg
END:VEVENT
BEGIN:VEVENT
DTSTART;TZID=America/Chicago:20260908T183000
DTEND;TZID=America/Chicago:20260908T230000
DTSTAMP:20260425T152511
CREATED:20260421T160330Z
LAST-MODIFIED:20260421T160330Z
UID:271794-1788892200-1788908400@1015krock.com
SUMMARY:Motley Crue
DESCRIPTION:
URL:https://1015krock.com/concerts/motley-crue/
LOCATION:Morton Amphitheater\, 6150 NW Music Blvd\, Riverside\, MO\, 64150\, United States
ATTACH;FMTTYPE=image/jpeg:https://1015krock.com/wp-content/uploads/2026/04/f574a75c-fc77-4bef-b74f-415ec5308e24_TABLET_LANDSCAPE_LARGE_16_9.jpg
END:VEVENT
BEGIN:VEVENT
DTSTART;TZID=America/Chicago:20260909T193000
DTEND;TZID=America/Chicago:20260909T230000
DTSTAMP:20260425T152511
CREATED:20260421T172327Z
LAST-MODIFIED:20260421T172327Z
UID:271821-1788982200-1788994800@1015krock.com
SUMMARY:Black Label Society w/ Zakk Sabbath
DESCRIPTION:Black Label Society joins forces with Zakk Sabbath for a night of crushing riffs\, blistering solos\, and unrelenting heavy-metal.
URL:https://1015krock.com/concerts/black-label-society-w-zakk-sabbath-2/
LOCATION:VooDoo Lounge at Harrah’s Kansas City\, One Riverboat Drive\, Kansas City\, MO\, 64116\, United States
ATTACH;FMTTYPE=image/webp:https://1015krock.com/wp-content/uploads/2026/04/nkc-black-label-society-1920x1080-1.webp
END:VEVENT
BEGIN:VEVENT
DTSTART;TZID=America/Chicago:20260910T183000
DTEND;TZID=America/Chicago:20260910T230000
DTSTAMP:20260425T152511
CREATED:20260421T160450Z
LAST-MODIFIED:20260421T160450Z
UID:271797-1789065000-1789081200@1015krock.com
SUMMARY:Rob Zombie w/ Marilyn Manson
DESCRIPTION:
URL:https://1015krock.com/concerts/rob-zombie-w-marilyn-manson/
LOCATION:Morton Amphitheater\, 6150 NW Music Blvd\, Riverside\, MO\, 64150\, United States
ATTACH;FMTTYPE=image/jpeg:https://1015krock.com/wp-content/uploads/2026/04/5bfc7b08-d429-415d-92f3-a76b11426b9e_1462401_TABLET_LANDSCAPE_LARGE_16_9.jpg
END:VEVENT
BEGIN:VEVENT
DTSTART;TZID=America/Chicago:20260916T193000
DTEND;TZID=America/Chicago:20260916T230000
DTSTAMP:20260425T152511
CREATED:20260421T160606Z
LAST-MODIFIED:20260421T160606Z
UID:271800-1789587000-1789599600@1015krock.com
SUMMARY:Billy Idol
DESCRIPTION:
URL:https://1015krock.com/concerts/billy-idol/
LOCATION:Morton Amphitheater\, 6150 NW Music Blvd\, Riverside\, MO\, 64150\, United States
ATTACH;FMTTYPE=image/jpeg:https://1015krock.com/wp-content/uploads/2026/04/01d6c8b3-78f1-473d-b0f7-6139edc76820_TABLET_LANDSCAPE_LARGE_16_9.jpg
END:VEVENT
BEGIN:VEVENT
DTSTART;TZID=America/Chicago:20260917T193000
DTEND;TZID=America/Chicago:20260917T230000
DTSTAMP:20260425T152511
CREATED:20260421T160812Z
LAST-MODIFIED:20260421T160812Z
UID:271803-1789673400-1789686000@1015krock.com
SUMMARY:Eric Clapton w/ Jimmie Vaughan
DESCRIPTION:Eric Clapton has announced a brand-new run of tour dates across the U.S. this upcoming fall. One of the six engagements includes a stop at T-Mobile Center on September 17\, with special guest Jimmie Vaughan.
URL:https://1015krock.com/concerts/eric-clapton-w-jimmie-vaughan/
LOCATION:T-Mobile Center\, 1407 Grand Blvd\, Kansas City\, MO\, 641046\, United States
ATTACH;FMTTYPE=image/webp:https://1015krock.com/wp-content/uploads/2026/04/09.17.26-Eric-Clapton-1355x530-v1-b4f4129534.webp
END:VEVENT
BEGIN:VEVENT
DTSTART;TZID=America/Chicago:20260917T203000
DTEND;TZID=America/Chicago:20260917T230000
DTSTAMP:20260425T152511
CREATED:20260421T172114Z
LAST-MODIFIED:20260421T172114Z
UID:271818-1789677000-1789686000@1015krock.com
SUMMARY:Sex Pistols
DESCRIPTION:
URL:https://1015krock.com/concerts/sex-pistols/
LOCATION:Uptown Theater\, 3700 Broadway Blvd\, Kansas City\, MO\, 64111\, United States
ATTACH;FMTTYPE=image/jpeg:https://1015krock.com/wp-content/uploads/2026/04/25cf3e53-5ca8-4af6-9e39-31b7333cfa70_EVENT_DETAIL_PAGE_16_9.jpg
END:VEVENT
BEGIN:VEVENT
DTSTART;TZID=America/Chicago:20260924T180000
DTEND;TZID=America/Chicago:20260924T230000
DTSTAMP:20260425T152511
CREATED:20260218T175844Z
LAST-MODIFIED:20260218T175844Z
UID:267241-1790272800-1790290800@1015krock.com
SUMMARY:Breaking Benjamin w/ Chevelle\, Starset\, Kami Kehoe
DESCRIPTION:
URL:https://1015krock.com/concerts/breaking-benjamin-w-chevelle-starset-kami-kehoe/
LOCATION:Morton Amphitheater\, 6150 NW Music Blvd\, Riverside\, MO\, 64150\, United States
ATTACH;FMTTYPE=image/jpeg:https://1015krock.com/wp-content/uploads/2026/02/Static_Social-Instagram_1080x1080_BreakingBenjamin_2026_AllDates_R1.jpg
END:VEVENT
BEGIN:VEVENT
DTSTART;TZID=America/Chicago:20261003T184500
DTEND;TZID=America/Chicago:20261003T230000
DTSTAMP:20260425T152511
CREATED:20260113T183148Z
LAST-MODIFIED:20260113T183148Z
UID:263660-1791053100-1791068400@1015krock.com
SUMMARY:Five Finger Death Punch w/ Cody Jinks and Eva Under Fire
DESCRIPTION:
URL:https://1015krock.com/concerts/five-finger-death-punch-w-cody-jinks-and-eva-under-fire/
LOCATION:Morton Amphitheater\, 6150 NW Music Blvd\, Riverside\, MO\, 64150\, United States
ATTACH;FMTTYPE=image/webp:https://1015krock.com/wp-content/uploads/2026/01/FFDP.webp
END:VEVENT
BEGIN:VEVENT
DTSTART;TZID=America/Chicago:20261109T190000
DTEND;TZID=America/Chicago:20261109T230000
DTSTAMP:20260425T152511
CREATED:20251110T185246Z
LAST-MODIFIED:20251110T185246Z
UID:258211-1794250800-1794265200@1015krock.com
SUMMARY:Three Days Grace w/ I Prevail and The Funeral Portrait
DESCRIPTION:Rock giants Three Days Grace announce their 2026 Alienation tour will stop at T-Mobile Center on November 9\, 2026\, with support from I Prevail and The Funeral Portrait. Three Days Grace had a monster year in 2025 with the release of their latest album Alienation\, with #1 songs “Mayday” and “Apologies”. With billions of streams\, millions of album sales\, and sold-out arena tours across multiple continents\, this multi-platinum Ontario\, Canada band continues to achieve new levels of success. Along with earning a staggering 20 total #1 entries on the Mediabase Active Rock Chart and 19 total #1 entries on Billboard’s Mainstream Rock charts\, Three Days Grace recently entered the esteemed Spotify “Billions Club” when their rock anthem “I Hate Everything About You” crossed 1 Billion streams. Released in 2003\, the single has since become embedded in rock history.
URL:https://1015krock.com/concerts/three-days-grace-w-i-prevail-and-the-funeral-portrait/
LOCATION:T-Mobile Center\, 1407 Grand Blvd\, Kansas City\, MO\, 641046\, United States
ATTACH;FMTTYPE=image/jpeg:https://1015krock.com/wp-content/uploads/2025/11/Static_Social-FacebookPR_1200x630_ThreeDaysGrace_2026_Regional_T-MobileCenter_1109.jpg
END:VEVENT
END:VCALENDAR